BEGIN:VCALENDAR
VERSION:2.0
PRODID:-//wp-events-plugin.com//7.2.3.1//EN
TZID:Europe/Stockholm
X-WR-TIMEZONE:Europe/Stockholm
BEGIN:VEVENT
UID:0-325@yip.se
DTSTART;TZID=Europe/Stockholm:20201019T000000
DTEND;TZID=Europe/Stockholm:20201023T000000
DTSTAMP:20200630T125415Z
URL:https://yip.se/events/visioning-initiative-forum/
SUMMARY:Visioning Initiative Forum
DESCRIPTION:With: YIP Participants
ATTACH;FMTTYPE=image/jpeg:https://yip.se/wp-content/uploads/2020/06/favico
 n.png
CATEGORIES:Course
END:VEVENT
BEGIN:VTIMEZONE
TZID:Europe/Stockholm
X-LIC-LOCATION:Europe/Stockholm
BEGIN:DAYLIGHT
DTSTART:20200329T030000
TZOFFSETFROM:+0100
TZOFFSETTO:+0200
TZNAME:CEST
END:DAYLIGHT
END:VTIMEZONE
END:VCALENDAR