BEGIN:VCALENDAR
VERSION:2.0
PRODID:-//wp-events-plugin.com//7.2.3.1//EN
TZID:Europe/Stockholm
X-WR-TIMEZONE:Europe/Stockholm
BEGIN:VEVENT
UID:1-108@yip.se
DTSTART;TZID=Europe/Stockholm:20150209T084500
DTEND;TZID=Europe/Stockholm:20150213T123000
DTSTAMP:20140924T134332Z
URL:https://yip.se/events/turning-evolutionary-insight-in-holistic-action/
SUMMARY:Turning Evolutionary Insight in Holistic Action
DESCRIPTION:With: Weston Pew
ATTACH;FMTTYPE=image/jpeg:https://yip.se/wp-content/uploads/2014/09/Weston
 -Pew.jpg
CATEGORIES:Course
END:VEVENT
BEGIN:VTIMEZONE
TZID:Europe/Stockholm
X-LIC-LOCATION:Europe/Stockholm
BEGIN:STANDARD
DTSTART:20141026T020000
TZOFFSETFROM:+0200
TZOFFSETTO:+0100
TZNAME:CET
END:STANDARD
END:VTIMEZONE
END:VCALENDAR