BEGIN:VCALENDAR
VERSION:2.0
PRODID:-//wp-events-plugin.com//7.2.3.1//EN
TZID:Europe/Stockholm
X-WR-TIMEZONE:Europe/Stockholm
BEGIN:VEVENT
UID:0-408@yip.se
DTSTART;TZID=Europe/Stockholm:20220919T000000
DTEND;TZID=Europe/Stockholm:20220923T000000
DTSTAMP:20220825T140510Z
URL:https://yip.se/events/thinking-like-a-mountain-science-ecology-and-mea
 ning/
SUMMARY:Thinking like a Mountain:  science\, ecology and meaning
DESCRIPTION:With: dr. Andy Letcher 
ATTACH;FMTTYPE=image/jpeg:https://yip.se/wp-content/uploads/2021/05/BRN3C2
 AF41105E8_001347-e1621502243380.jpg
CATEGORIES:Open Course
END:VEVENT
BEGIN:VTIMEZONE
TZID:Europe/Stockholm
X-LIC-LOCATION:Europe/Stockholm
BEGIN:DAYLIGHT
DTSTART:20220327T030000
TZOFFSETFROM:+0100
TZOFFSETTO:+0200
TZNAME:CEST
END:DAYLIGHT
END:VTIMEZONE
END:VCALENDAR