BEGIN:VCALENDAR
VERSION:2.0
PRODID:-//wp-events-plugin.com//7.2.3.1//EN
TZID:Europe/Stockholm
X-WR-TIMEZONE:Europe/Stockholm
BEGIN:VEVENT
UID:0-303@yip.se
DTSTART;TZID=Europe/Stockholm;VALUE=DATE:20210607
DTEND;TZID=Europe/Stockholm;VALUE=DATE:20210612
DTSTAMP:20200630T101747Z
URL:https://yip.se/events/review-and-outdoor-experience/
SUMMARY:Review and Outdoor Experience
DESCRIPTION:With: Homebound Journeys\, Christianne Sinoo\, Silas Beardslee 
 & Inte Koster
ATTACH;FMTTYPE=image/jpeg:https://yip.se/wp-content/uploads/2016/10/IMG_01
 69.jpg
CATEGORIES:Course
END:VEVENT
BEGIN:VTIMEZONE
TZID:Europe/Stockholm
X-LIC-LOCATION:Europe/Stockholm
BEGIN:DAYLIGHT
DTSTART:20210328T030000
TZOFFSETFROM:+0100
TZOFFSETTO:+0200
TZNAME:CEST
END:DAYLIGHT
END:VTIMEZONE
END:VCALENDAR