BEGIN:VCALENDAR
VERSION:2.0
PRODID:-//wp-events-plugin.com//7.2.3.1//EN
TZID:Europe/Stockholm
X-WR-TIMEZONE:Europe/Stockholm
BEGIN:VEVENT
UID:0-340@yip.se
DTSTART;TZID=Europe/Stockholm:20211018T084500
DTEND;TZID=Europe/Stockholm:20211022T084500
DTSTAMP:20210921T192532Z
URL:https://yip.se/events/being-human-in-a-technological-age/
SUMMARY:Being Human in a Technological Age
DESCRIPTION:With: Nicanor Perlas and Michaela Glöckler 
ATTACH;FMTTYPE=image/jpeg:https://yip.se/wp-content/uploads/2017/11/Nicano
 r-Perlas.jpg
CATEGORIES:Open Course
END:VEVENT
BEGIN:VTIMEZONE
TZID:Europe/Stockholm
X-LIC-LOCATION:Europe/Stockholm
BEGIN:DAYLIGHT
DTSTART:20210328T030000
TZOFFSETFROM:+0100
TZOFFSETTO:+0200
TZNAME:CEST
END:DAYLIGHT
END:VTIMEZONE
END:VCALENDAR